BEGIN:VCALENDAR
VERSION:2.0
PRODID:-//Centre for European Transformation - ECPv6.15.20//NONSGML v1.0//EN
CALSCALE:GREGORIAN
METHOD:PUBLISH
X-WR-CALNAME:Centre for European Transformation
X-ORIGINAL-URL:https://cfet.frankfurt-school.de
X-WR-CALDESC:Events for Centre for European Transformation
REFRESH-INTERVAL;VALUE=DURATION:PT1H
X-Robots-Tag:noindex
X-PUBLISHED-TTL:PT1H
BEGIN:VTIMEZONE
TZID:UTC
BEGIN:STANDARD
TZOFFSETFROM:+0000
TZOFFSETTO:+0000
TZNAME:UTC
DTSTART:20240101T000000
END:STANDARD
END:VTIMEZONE
BEGIN:VEVENT
DTSTART;TZID=UTC:20250626T133000
DTEND;TZID=UTC:20250626T150000
DTSTAMP:20260426T043043
CREATED:20250528T133138Z
LAST-MODIFIED:20250806T065029Z
UID:4119-1750944600-1750950000@cfet.frankfurt-school.de
SUMMARY:From Barriers to Breakthroughs: Shaping Europe's Integrated Financial Future
DESCRIPTION:  \n+++ Important Remark +++ Exclusive Event for our FS Community +++ \nEurope’s financial landscape is at a decisive moment\, marked by rapid digital innovation\, ambitious sustainability goals\, and the critical need for deeper financial market integration. At the same time\, Europe faces enormous geopolitical challenges and possible trade barriers. At this event hosted by the Centre for European Transformation (CfET) at Frankfurt School of Finance & Management\, EU Commissioner Maria Luís Albuquerque\, responsible for Financial Services and the Savings and Investments Union\, will discuss Europe’s strategic path forward. \nThe conversation will address how to overcome existing barriers such as fragmented national regulations and insufficient market harmonization that hinder cross-border investments and financial services. \nJoin us for an insightful session.
URL:https://cfet.frankfurt-school.de/event/from-barriers-to-breakthroughs-shaping-europes-integrated-financial-future/
LOCATION:FS Campus\, Adickesallee 32-34\, Frankfurt am Main\, Hessen\, 60322\, Germany
ATTACH;FMTTYPE=image/jpeg:https://cfet.frankfurt-school.de/wp-content/uploads/2025/05/Bildschirm-CfET_Barriers-to-Breakthroughs_2025-06-03_02_RoomVisual-scaled.jpg
END:VEVENT
END:VCALENDAR