BEGIN:VCALENDAR
VERSION:2.0
PRODID:-//Centre for European Transformation - ECPv6.15.20//NONSGML v1.0//EN
CALSCALE:GREGORIAN
METHOD:PUBLISH
X-WR-CALNAME:Centre for European Transformation
X-ORIGINAL-URL:https://cfet.frankfurt-school.de
X-WR-CALDESC:Events for Centre for European Transformation
REFRESH-INTERVAL;VALUE=DURATION:PT1H
X-Robots-Tag:noindex
X-PUBLISHED-TTL:PT1H
BEGIN:VTIMEZONE
TZID:Europe/Berlin
BEGIN:DAYLIGHT
TZOFFSETFROM:+0100
TZOFFSETTO:+0200
TZNAME:CEST
DTSTART:20240331T010000
END:DAYLIGHT
BEGIN:STANDARD
TZOFFSETFROM:+0200
TZOFFSETTO:+0100
TZNAME:CET
DTSTART:20241027T010000
END:STANDARD
BEGIN:DAYLIGHT
TZOFFSETFROM:+0100
TZOFFSETTO:+0200
TZNAME:CEST
DTSTART:20250330T010000
END:DAYLIGHT
BEGIN:STANDARD
TZOFFSETFROM:+0200
TZOFFSETTO:+0100
TZNAME:CET
DTSTART:20251026T010000
END:STANDARD
BEGIN:DAYLIGHT
TZOFFSETFROM:+0100
TZOFFSETTO:+0200
TZNAME:CEST
DTSTART:20260329T010000
END:DAYLIGHT
BEGIN:STANDARD
TZOFFSETFROM:+0200
TZOFFSETTO:+0100
TZNAME:CET
DTSTART:20261025T010000
END:STANDARD
END:VTIMEZONE
BEGIN:VTIMEZONE
TZID:Europe/Paris
BEGIN:DAYLIGHT
TZOFFSETFROM:+0100
TZOFFSETTO:+0200
TZNAME:CEST
DTSTART:20240331T010000
END:DAYLIGHT
BEGIN:STANDARD
TZOFFSETFROM:+0200
TZOFFSETTO:+0100
TZNAME:CET
DTSTART:20241027T010000
END:STANDARD
BEGIN:DAYLIGHT
TZOFFSETFROM:+0100
TZOFFSETTO:+0200
TZNAME:CEST
DTSTART:20250330T010000
END:DAYLIGHT
BEGIN:STANDARD
TZOFFSETFROM:+0200
TZOFFSETTO:+0100
TZNAME:CET
DTSTART:20251026T010000
END:STANDARD
BEGIN:DAYLIGHT
TZOFFSETFROM:+0100
TZOFFSETTO:+0200
TZNAME:CEST
DTSTART:20260329T010000
END:DAYLIGHT
BEGIN:STANDARD
TZOFFSETFROM:+0200
TZOFFSETTO:+0100
TZNAME:CET
DTSTART:20261025T010000
END:STANDARD
END:VTIMEZONE
BEGIN:VEVENT
DTSTART;TZID=Europe/Berlin:20250506T180000
DTEND;TZID=Europe/Berlin:20250506T200000
DTSTAMP:20260426T053717
CREATED:20250306T104618Z
LAST-MODIFIED:20250806T064904Z
UID:3851-1746554400-1746561600@cfet.frankfurt-school.de
SUMMARY:C-Level Insights: Shaping Europe's Transition
DESCRIPTION:The Centre for European Transformation is inviting you to the next session of the NEW lecture format on Leadership & Transformation in Europe: “C-Level Insights: Shaping Europe’s Transition”! \nGet ready to gain invaluable insights from top professionals who are shaping the future of their fields. These exclusive sessions will offer you a unique opportunity to learn from real-world experiences\, cutting-edge strategies\, and innovative approaches that drive success in today’s dynamic business landscape. \nOur lecture on May 6\, 2025\, will feature Silvia Carpitella (CEO of Citigroup Global Markets Europe). \nShe will discuss the topic “Innovate or Stagnate: Driving Change in Financial Services“. \nWe are looking forward to seeing you!
URL:https://cfet.frankfurt-school.de/event/c-level-insights-shaping-europes-transition-2/
LOCATION:FS Campus\, Adickesallee 32-34\, Frankfurt am Main\, Hessen\, 60322\, Germany
ATTACH;FMTTYPE=image/jpeg:https://cfet.frankfurt-school.de/wp-content/uploads/2025/03/Bildschirm-CfET_C-Level-Insights-01-04-2025_Room-scaled.jpg
END:VEVENT
BEGIN:VEVENT
DTSTART;TZID=Europe/Paris:20250513T170000
DTEND;TZID=Europe/Paris:20250513T180000
DTSTAMP:20260426T053717
CREATED:20250219T081452Z
LAST-MODIFIED:20250806T064956Z
UID:3754-1747155600-1747159200@cfet.frankfurt-school.de
SUMMARY:AI Frontiers in Finance - Session 8
DESCRIPTION:We invite you to register for Session 8 of our AI Frontiers in Finance Webinar on May 13\, 2025. In this session\, Sophia Kazinnik\, from Stanford University\, will present insights from her work on Simulating the Survey of Professional Forecasters. The paper will be discussed by Miguel Faria-e-Castro. \nWe look forward to welcoming you to another engaging and informative session! \nFind out moreYouTube Video
URL:https://cfet.frankfurt-school.de/event/ai-frontiers-in-finance-session-8/
LOCATION:Online
ATTACH;FMTTYPE=image/png:https://cfet.frankfurt-school.de/wp-content/uploads/2025/02/Session-8-AI-Frontier-in-Finance-2.png
END:VEVENT
END:VCALENDAR