BEGIN:VCALENDAR
VERSION:2.0
PRODID:-//Centre for European Transformation - ECPv6.15.20//NONSGML v1.0//EN
CALSCALE:GREGORIAN
METHOD:PUBLISH
X-ORIGINAL-URL:https://cfet.frankfurt-school.de
X-WR-CALDESC:Events for Centre for European Transformation
REFRESH-INTERVAL;VALUE=DURATION:PT1H
X-Robots-Tag:noindex
X-PUBLISHED-TTL:PT1H
BEGIN:VTIMEZONE
TZID:Europe/Berlin
BEGIN:DAYLIGHT
TZOFFSETFROM:+0100
TZOFFSETTO:+0200
TZNAME:CEST
DTSTART:20250330T010000
END:DAYLIGHT
BEGIN:STANDARD
TZOFFSETFROM:+0200
TZOFFSETTO:+0100
TZNAME:CET
DTSTART:20251026T010000
END:STANDARD
BEGIN:DAYLIGHT
TZOFFSETFROM:+0100
TZOFFSETTO:+0200
TZNAME:CEST
DTSTART:20260329T010000
END:DAYLIGHT
BEGIN:STANDARD
TZOFFSETFROM:+0200
TZOFFSETTO:+0100
TZNAME:CET
DTSTART:20261025T010000
END:STANDARD
BEGIN:DAYLIGHT
TZOFFSETFROM:+0100
TZOFFSETTO:+0200
TZNAME:CEST
DTSTART:20270328T010000
END:DAYLIGHT
BEGIN:STANDARD
TZOFFSETFROM:+0200
TZOFFSETTO:+0100
TZNAME:CET
DTSTART:20271031T010000
END:STANDARD
END:VTIMEZONE
BEGIN:VEVENT
DTSTART;TZID=Europe/Berlin:20260609T170000
DTEND;TZID=Europe/Berlin:20260609T180000
DTSTAMP:20260425T170612
CREATED:20260324T194415Z
LAST-MODIFIED:20260413T091004Z
UID:4857-1781024400-1781028000@cfet.frankfurt-school.de
SUMMARY:AI Frontiers in Finance - Session 12
DESCRIPTION:We invite you to register for Session 12 of our AI Frontiers in Finance Webinar on 9 June 2026. In this session\, Roxana Mihet from HEC Lausanne will present her research. We look forward to welcoming you to another engaging and informative session! \nFind out moreRegister here
URL:https://cfet.frankfurt-school.de/event/ai-frontiers-in-finance-session-12/
LOCATION:Online
ATTACH;FMTTYPE=image/png:https://cfet.frankfurt-school.de/wp-content/uploads/2026/03/Session12_CEST.png
END:VEVENT
END:VCALENDAR