BEGIN:VCALENDAR
VERSION:2.0
PRODID:-//Centre for European Transformation - ECPv6.15.20//NONSGML v1.0//EN
CALSCALE:GREGORIAN
METHOD:PUBLISH
X-ORIGINAL-URL:https://cfet.frankfurt-school.de
X-WR-CALDESC:Events for Centre for European Transformation
REFRESH-INTERVAL;VALUE=DURATION:PT1H
X-Robots-Tag:noindex
X-PUBLISHED-TTL:PT1H
BEGIN:VTIMEZONE
TZID:UTC
BEGIN:STANDARD
TZOFFSETFROM:+0000
TZOFFSETTO:+0000
TZNAME:UTC
DTSTART:20250101T000000
END:STANDARD
END:VTIMEZONE
BEGIN:VEVENT
DTSTART;TZID=UTC:20260220T120000
DTEND;TZID=UTC:20260220T140000
DTSTAMP:20260425T205154
CREATED:20251217T121020Z
LAST-MODIFIED:20260116T073430Z
UID:4530-1771588800-1771596000@cfet.frankfurt-school.de
SUMMARY:Lunch & Learn - Banking meets Transformation
DESCRIPTION:Joint event of the Centre for European Transformation (CfET) and the Bankenverband Mitte (Association of German Banks)\, hosted by Goldman Sachs.\n+++ Kindly note: This event is by invitation only +++ \nGermany’s industrial base is under pressure\, and the ability of the Mittelstand to adapt will be crucial for the country’s future competitiveness. \nOn 20 February 2026\, Prof. Dr. Dr. h.c. Lars P. Feld\, Director of the Walter Eucken Institute and Professor of Economic Policy at the University of Freiburg will deliver an impulse on the topic “Out of the Industrial Weakness – Financing as the Key to the Renewal of German SMEs“. \nAfterwards\, participants will have the opportunity to engage with the speaker on how innovative financing instruments and a stable policy framework can support sustainable investment\, productivity gains\, and long‑term renewal in the SME sector. \nThe event will take place from 12:00 pm to 2:00 pm at Goldman Sachs\, Marienturm\, Frankfurt. A light networking lunch will be generously provided by Goldman Sachs.
URL:https://cfet.frankfurt-school.de/event/lunch-and-learn-banking-meets-transformation/
LOCATION:Goldman Sachs Bank Europe SE\, Taunusanlage 9–10\, Frankfurt am Main\, 60329\, Germany
ATTACH;FMTTYPE=image/jpeg:https://cfet.frankfurt-school.de/wp-content/uploads/2023/07/Homepagebanner-Imagefilm.jpg
END:VEVENT
END:VCALENDAR